BEGIN:VCALENDAR
VERSION:2.0
PRODID:-//Le Poing - ECPv6.8.3//NONSGML v1.0//EN
CALSCALE:GREGORIAN
METHOD:PUBLISH
X-WR-CALNAME:Le Poing
X-ORIGINAL-URL:https://lepoing.net
X-WR-CALDESC:Évènements pour Le Poing
REFRESH-INTERVAL;VALUE=DURATION:PT1H
X-Robots-Tag:noindex
X-PUBLISHED-TTL:PT1H
BEGIN:VTIMEZONE
TZID:Europe/Paris
BEGIN:DAYLIGHT
TZOFFSETFROM:+0100
TZOFFSETTO:+0200
TZNAME:CEST
DTSTART:20220327T010000
END:DAYLIGHT
BEGIN:STANDARD
TZOFFSETFROM:+0200
TZOFFSETTO:+0100
TZNAME:CET
DTSTART:20221030T010000
END:STANDARD
END:VTIMEZONE
BEGIN:VEVENT
DTSTART;TZID=Europe/Paris:20220630T190000
DTEND;TZID=Europe/Paris:20220630T203000
DTSTAMP:20260425T143756
CREATED:20220626T131458Z
LAST-MODIFIED:20220626T131458Z
UID:31187-1656615600-1656621000@lepoing.net
SUMMARY:Souriez\, vous êtes fiché·es - Discussion et action collective contre le fichier policier
DESCRIPTION:
URL:https://lepoing.net/evenement/souriez-vous-etes-fiche%c2%b7es-discussion-et-action-collective-contre-le-fichier-policier/
LOCATION:Le Barricade\, 5 rue Bonnie\, Montpellier
CATEGORIES:Atelier,Discussion
ATTACH;FMTTYPE=image/jpeg:https://lepoing.net/wp-content/uploads/2022/06/Technopolice.jpg
END:VEVENT
END:VCALENDAR