BEGIN:VCALENDAR
VERSION:2.0
PRODID:-//Le Poing - ECPv6.8.3//NONSGML v1.0//EN
CALSCALE:GREGORIAN
METHOD:PUBLISH
X-WR-CALNAME:Le Poing
X-ORIGINAL-URL:https://lepoing.net
X-WR-CALDESC:Évènements pour Le Poing
REFRESH-INTERVAL;VALUE=DURATION:PT1H
X-Robots-Tag:noindex
X-PUBLISHED-TTL:PT1H
BEGIN:VTIMEZONE
TZID:Europe/Paris
BEGIN:DAYLIGHT
TZOFFSETFROM:+0100
TZOFFSETTO:+0200
TZNAME:CEST
DTSTART:20220327T010000
END:DAYLIGHT
BEGIN:STANDARD
TZOFFSETFROM:+0200
TZOFFSETTO:+0100
TZNAME:CET
DTSTART:20221030T010000
END:STANDARD
END:VTIMEZONE
BEGIN:VEVENT
DTSTART;TZID=Europe/Paris:20221201T093000
DTEND;TZID=Europe/Paris:20221201T123000
DTSTAMP:20260425T034652
CREATED:20221129T085310Z
LAST-MODIFIED:20221129T085310Z
UID:32672-1669887000-1669897800@lepoing.net
SUMMARY:Montpellier : rassemblement de solidarité avec les militants de Boycott Désinvestissement Sanctions\, qui militent pour les droits du peuple palestinien\, à 9h30 au commissariat central de la ville\, 206 rue du Comté de Melgeuil.
DESCRIPTION:
URL:https://lepoing.net/evenement/montpellier-rassemblement-de-solidarite-avec-les-militants-de-boycott-desinvestissement-sanctions-qui-militent-pour-les-droits-du-peuple-palestinien-a-9h30-au-commissariat-central-de-la-ville-206/
LOCATION:Commissariat central\, 206 rue du Comté de Melgueil\, Montpellier\, Hérault\, 34000\, France
CATEGORIES:Rassemblement
END:VEVENT
BEGIN:VEVENT
DTSTART;TZID=Europe/Paris:20221201T160000
DTEND;TZID=Europe/Paris:20221201T190000
DTSTAMP:20260425T034652
CREATED:20221129T140613Z
LAST-MODIFIED:20221129T140613Z
UID:32682-1669910400-1669921200@lepoing.net
SUMMARY:Montpellier : rassemblement des gilets jaunes du rond-point Près d’Arènes\, sur place\, à partir de 16h . Un message est posté sur leur page Facebook en cas d’annulation.
DESCRIPTION:
URL:https://lepoing.net/evenement/montpellier-rassemblement-des-gilets-jaunes-du-rond-point-pres-darenes-sur-place-a-partir-de-16h-un-message-est-poste-sur-leur-page-facebook-en-cas-dannulation/
LOCATION:Rond-point des Prés d’Arènes\, Rond-point des Prés d'Arènes\, Montpellier\, Hérault\, 34000\, France
CATEGORIES:Rassemblement
END:VEVENT
END:VCALENDAR