BEGIN:VCALENDAR
VERSION:2.0
PRODID:-//Le Poing - ECPv6.8.3//NONSGML v1.0//EN
CALSCALE:GREGORIAN
METHOD:PUBLISH
X-ORIGINAL-URL:https://lepoing.net
X-WR-CALDESC:Évènements pour Le Poing
REFRESH-INTERVAL;VALUE=DURATION:PT1H
X-Robots-Tag:noindex
X-PUBLISHED-TTL:PT1H
BEGIN:VTIMEZONE
TZID:Europe/Paris
BEGIN:DAYLIGHT
TZOFFSETFROM:+0100
TZOFFSETTO:+0200
TZNAME:CEST
DTSTART:20220327T010000
END:DAYLIGHT
BEGIN:STANDARD
TZOFFSETFROM:+0200
TZOFFSETTO:+0100
TZNAME:CET
DTSTART:20221030T010000
END:STANDARD
END:VTIMEZONE
BEGIN:VEVENT
DTSTART;TZID=Europe/Paris:20221203T100000
DTEND;TZID=Europe/Paris:20221203T130000
DTSTAMP:20260425T001910
CREATED:20221129T141444Z
LAST-MODIFIED:20221129T141444Z
UID:32686-1670061600-1670072400@lepoing.net
SUMMARY:Nîmes : rendez-vous des gilets jaunes dès 10h au rond-point du km delta\, près de la sortie « Nîmes Ouest » de l’autoroute A9\, contre la vie chère\, la casse des conquis sociaux et des services publics\, et pour l’amnistie des gilets jaunes.
DESCRIPTION:
URL:https://lepoing.net/evenement/nimes-rendez-vous-des-gilets-jaunes-des-10h-au-rond-point-du-km-delta-pres-de-la-sortie-nimes-ouest-de-lautoroute-a9-contre-la-vie-chere-la-casse-des-conquis-sociaux-et-des/
LOCATION:rond point du km delta\, Nîmes\, Près de la sortie « Nîmes Ouest » de l’autoroute A9\, Nîmes
CATEGORIES:Rassemblement
END:VEVENT
BEGIN:VEVENT
DTSTART;TZID=Europe/Paris:20221203T150000
DTEND;TZID=Europe/Paris:20221203T180000
DTSTAMP:20260425T001910
CREATED:20221129T141809Z
LAST-MODIFIED:20221129T141809Z
UID:32689-1670079600-1670090400@lepoing.net
SUMMARY:Nîmes : rassemblement à 15h devant la préfecture\, contre la vie chère\, pour l’augmentation des salaires\, retraites et allocations et des blocages de prix.
DESCRIPTION:
URL:https://lepoing.net/evenement/nimes-rassemblement-a-15h-devant-la-prefecture-contre-la-vie-chere-pour-laugmentation-des-salaires-retraites-et-allocations-et-des-blocages-de-prix/
LOCATION:Préfecture de Nîmes\, 2 Rue Guillemette\, Nîmes\, Gard\, 30000\, France
CATEGORIES:Rassemblement
END:VEVENT
BEGIN:VEVENT
DTSTART;TZID=Europe/Paris:20221203T170000
DTEND;TZID=Europe/Paris:20221203T200000
DTSTAMP:20260425T001910
CREATED:20221129T140815Z
LAST-MODIFIED:20221129T140815Z
UID:32684-1670086800-1670097600@lepoing.net
SUMMARY:Montpellier : rassemblement des gilets jaunes du rond-point Près d’Arènes\, sur place\, à partir de 17h . Un message est posté sur leur page Facebook en cas d’annulation.
DESCRIPTION:
URL:https://lepoing.net/evenement/montpellier-rassemblement-des-gilets-jaunes-du-rond-point-pres-darenes-sur-place-a-partir-de-17h-un-message-est-poste-sur-leur-page-facebook-en-cas-dannulation/
LOCATION:Rond-point des Prés d’Arènes\, Rond-point des Prés d'Arènes\, Montpellier\, Hérault\, 34000\, France
CATEGORIES:Rassemblement
END:VEVENT
END:VCALENDAR