BEGIN:VCALENDAR
VERSION:2.0
PRODID:-//Le Poing - ECPv6.8.3//NONSGML v1.0//EN
CALSCALE:GREGORIAN
METHOD:PUBLISH
X-WR-CALNAME:Le Poing
X-ORIGINAL-URL:https://lepoing.net
X-WR-CALDESC:Évènements pour Le Poing
REFRESH-INTERVAL;VALUE=DURATION:PT1H
X-Robots-Tag:noindex
X-PUBLISHED-TTL:PT1H
BEGIN:VTIMEZONE
TZID:Europe/Paris
BEGIN:DAYLIGHT
TZOFFSETFROM:+0100
TZOFFSETTO:+0200
TZNAME:CEST
DTSTART:20220327T010000
END:DAYLIGHT
BEGIN:STANDARD
TZOFFSETFROM:+0200
TZOFFSETTO:+0100
TZNAME:CET
DTSTART:20221030T010000
END:STANDARD
END:VTIMEZONE
BEGIN:VEVENT
DTSTART;TZID=Europe/Paris:20221209T120000
DTEND;TZID=Europe/Paris:20221209T160000
DTSTAMP:20260424T140053
CREATED:20221128T224648Z
LAST-MODIFIED:20221128T224648Z
UID:32656-1670587200-1670601600@lepoing.net
SUMMARY:Rassemblement contre la hausse du prix de l'énergie\, en soutien aux grévistes du secteur\, à 12h devant le siège d'Enedis Montpellier\, au 382 avenue Raimon de Trencavel\, arrêt Sabines\, tout près du rond-point du grand M. Repas à prix libre proposé sur place.
DESCRIPTION:
URL:https://lepoing.net/evenement/rassemblement-contre-la-hausse-du-prix-de-lenergie-en-soutien-aux-grevistes-du-secteur-a-12h-devant-le-siege-denedis-montpellier-au-382-avenue-raimon-de-trencavel-arret-sabines-tout-pres-du-r/
CATEGORIES:Rassemblement
END:VEVENT
END:VCALENDAR