BEGIN:VCALENDAR
VERSION:2.0
PRODID:-//Le Poing - ECPv6.8.3//NONSGML v1.0//EN
CALSCALE:GREGORIAN
METHOD:PUBLISH
X-WR-CALNAME:Le Poing
X-ORIGINAL-URL:https://lepoing.net
X-WR-CALDESC:Évènements pour Le Poing
REFRESH-INTERVAL;VALUE=DURATION:PT1H
X-Robots-Tag:noindex
X-PUBLISHED-TTL:PT1H
BEGIN:VTIMEZONE
TZID:Europe/Paris
BEGIN:DAYLIGHT
TZOFFSETFROM:+0100
TZOFFSETTO:+0200
TZNAME:CEST
DTSTART:20220327T010000
END:DAYLIGHT
BEGIN:STANDARD
TZOFFSETFROM:+0200
TZOFFSETTO:+0100
TZNAME:CET
DTSTART:20221030T010000
END:STANDARD
END:VTIMEZONE
BEGIN:VEVENT
DTSTART;TZID=Europe/Paris:20221216T200000
DTEND;TZID=Europe/Paris:20221216T230000
DTSTAMP:20260424T034038
CREATED:20221213T183117Z
LAST-MODIFIED:20221213T183117Z
UID:32761-1671220800-1671231600@lepoing.net
SUMMARY:Régalade #12 - Cantine solidaire du Barricade : Carbonade + Karaoké
DESCRIPTION:Vendredi 16 décembre\, un peu de solidarité directe : repas de Noel : carbonade de boeuf\, pomme de terres et plat végétarien\nLa dernière soirée de l’année se poursuivra par un petit karaoké.\nPrésentation de la régalade :\nNous essayons de mettre en place des activités d’entraide et de résistance afin de répondre entre autre et ensemble à notre besoin de manger\, c’est pourquoi depuis mars 2021\, nous avons mis en place une cuisine solidaire : « La Régalade du Barricade ».\nCet évènement ne consiste pas en une simple distribution de nourriture pour faire la charité\, il s’agit d’un outil non marchand de solidarité de classe pour briser l’isolement social et permettre de se rencontrer et d’échanger.\nLa pandémie de COVID 19 a mis en lumière les injustices et les inégalités sociales. L’État se déculpabilise en rejetant la responsabilité de la situation sanitaire sur les individus.\nLes plus précaires sont frappé.e.s de plein fouet socialement et économiquement.\nFace à la pauvreté grandissante et l’isolement\, vive la solidarité de classe et l’auto-organisation !\nTous les mois\, retrouvons-nous pour partager un moment ensemble autour d’un repas à prix libre
URL:https://lepoing.net/evenement/regalade-12-cantine-solidaire-du-barricade-carbonade-karaoke/
LOCATION:Le Barricade\, 5 rue Bonnie\, Montpellier
END:VEVENT
END:VCALENDAR