BEGIN:VCALENDAR
VERSION:2.0
PRODID:-//Le Poing - ECPv6.8.3//NONSGML v1.0//EN
CALSCALE:GREGORIAN
METHOD:PUBLISH
X-ORIGINAL-URL:https://lepoing.net
X-WR-CALDESC:Évènements pour Le Poing
REFRESH-INTERVAL;VALUE=DURATION:PT1H
X-Robots-Tag:noindex
X-PUBLISHED-TTL:PT1H
BEGIN:VTIMEZONE
TZID:Europe/Paris
BEGIN:DAYLIGHT
TZOFFSETFROM:+0100
TZOFFSETTO:+0200
TZNAME:CEST
DTSTART:20220327T010000
END:DAYLIGHT
BEGIN:STANDARD
TZOFFSETFROM:+0200
TZOFFSETTO:+0100
TZNAME:CET
DTSTART:20221030T010000
END:STANDARD
END:VTIMEZONE
BEGIN:VEVENT
DTSTART;TZID=Europe/Paris:20221217T140000
DTEND;TZID=Europe/Paris:20221217T170000
DTSTAMP:20260424T015216
CREATED:20221128T224933Z
LAST-MODIFIED:20221128T224933Z
UID:32658-1671285600-1671296400@lepoing.net
SUMMARY:Montpellier : assemblée générale contre la vie au square de la Tour des Pins\, tout près du Peyrou en allant vers Albert 1er\, à 14h.
DESCRIPTION:
URL:https://lepoing.net/evenement/montpellier-assemblee-generale-contre-la-vie-au-square-de-la-tour-des-pins-tout-pres-du-peyrou-en-allant-vers-albert-1er-a-14h/
LOCATION:square de la tour des pins\, Montpellier
CATEGORIES:Assemblée générale
END:VEVENT
END:VCALENDAR