BEGIN:VCALENDAR
VERSION:2.0
PRODID:-//Le Poing - ECPv6.8.3//NONSGML v1.0//EN
CALSCALE:GREGORIAN
METHOD:PUBLISH
X-WR-CALNAME:Le Poing
X-ORIGINAL-URL:https://lepoing.net
X-WR-CALDESC:Évènements pour Le Poing
REFRESH-INTERVAL;VALUE=DURATION:PT1H
X-Robots-Tag:noindex
X-PUBLISHED-TTL:PT1H
BEGIN:VTIMEZONE
TZID:Europe/Paris
BEGIN:DAYLIGHT
TZOFFSETFROM:+0100
TZOFFSETTO:+0200
TZNAME:CEST
DTSTART:20220327T010000
END:DAYLIGHT
BEGIN:STANDARD
TZOFFSETFROM:+0200
TZOFFSETTO:+0100
TZNAME:CET
DTSTART:20221030T010000
END:STANDARD
END:VTIMEZONE
BEGIN:VEVENT
DTSTART;TZID=Europe/Paris:20221218T110000
DTEND;TZID=Europe/Paris:20221218T130000
DTSTAMP:20260424T002201
CREATED:20221213T184439Z
LAST-MODIFIED:20221213T184439Z
UID:32767-1671361200-1671368400@lepoing.net
SUMMARY:18 Décembre Journée internationale des migrants contre Darmanin et son monde
DESCRIPTION:
URL:https://lepoing.net/evenement/18-decembre-journee-internationale-des-migrants-contre-darmanin-et-son-monde/
LOCATION:Place de la Comédie
END:VEVENT
END:VCALENDAR