BEGIN:VCALENDAR
VERSION:2.0
PRODID:-//Le Poing - ECPv6.8.3//NONSGML v1.0//EN
CALSCALE:GREGORIAN
METHOD:PUBLISH
X-ORIGINAL-URL:https://lepoing.net
X-WR-CALDESC:Évènements pour Le Poing
REFRESH-INTERVAL;VALUE=DURATION:PT1H
X-Robots-Tag:noindex
X-PUBLISHED-TTL:PT1H
BEGIN:VTIMEZONE
TZID:Europe/Paris
BEGIN:DAYLIGHT
TZOFFSETFROM:+0100
TZOFFSETTO:+0200
TZNAME:CEST
DTSTART:20230326T010000
END:DAYLIGHT
BEGIN:STANDARD
TZOFFSETFROM:+0200
TZOFFSETTO:+0100
TZNAME:CET
DTSTART:20231029T010000
END:STANDARD
END:VTIMEZONE
BEGIN:VEVENT
DTSTART;TZID=Europe/Paris:20230610T180000
DTEND;TZID=Europe/Paris:20230610T210000
DTSTAMP:20260420T043402
CREATED:20230602T075920Z
LAST-MODIFIED:20230602T080122Z
UID:35158-1686420000-1686430800@lepoing.net
SUMMARY:Conférence sur les fileuses cévenoles & petit concert
DESCRIPTION:Nous qu’on nomme le vil troupeau \nà l’aube du XXe siècle\, le combat des fileuses cévenoles (1906-1909) \nEn 1910\, à L’Estréchure\, près de Saint-Jean-du-Gard\, un groupe de villageois crée la filature de soie La Prolétarienne. Dans quelles circonstances des petits commerçants\, des cultivateurs et des fileuses ont-ils été conduits à mettre en commun leurs économies pour que cet établissement voie le jour ? C’est ce que s’efforce de reconstituer depuis quelques années le groupe L’Escoubette\, quatre habitant.e.s de Saint-Jean-du-Gard\, réunis par leur intérêt commun pour l’histoire sociale. \nLa collecte de documents d’archives\, la lecture des journaux de l’époque ont mis en évidence le rôle primordial de la fermentation politique et sociale qui\, en ce début du XXe siècle\, voit s’organiser les partis et syndicats ouvriers. C’est dans ce contexte que se déroule la grande grève des fileuses cévenoles qui\, en 1906\, pendant plus d’un mois\, agite la région de Ganges à Alès. La conférence évoquera cet évènement et ses conséquences immédiates pour les ouvrières de la soie. \n  \n🎶 ☝ 21 h Concert ☝ 🎶 \nHypercharlotte \nC’est de l’intimité avec des notes\, de la douceur acide\, une lutte espiègle contre la solitude. Le sens est poétique\, le sourire est partagé et la pop est destinée à vos âmes d’enfants pas sages. \nhttps://hypercharlotte.bandcamp.com/album/presquil \nBar et grignotage sur place \nPrix libre
URL:https://lepoing.net/evenement/conference-sur-les-fileuses-cevenoles-petit-concert/
LOCATION:Etuve\, Pont-d'Hérault\, Saint-André-de-Majencoules\, Le Vigan\, Gard\, 30570\, France
CATEGORIES:Concert,Conférence
ATTACH;FMTTYPE=image/jpeg:https://lepoing.net/wp-content/uploads/2023/06/20aca61b7ed4e4cba4a8b2ca9663bf75.jpg
END:VEVENT
BEGIN:VEVENT
DTSTART;TZID=Europe/Paris:20230615T180000
DTEND;TZID=Europe/Paris:20230615T233000
DTSTAMP:20260420T043402
CREATED:20230602T080339Z
LAST-MODIFIED:20230602T080517Z
UID:35165-1686852000-1686871800@lepoing.net
SUMMARY:Soirée de la Tenaille (en mixité choisie de genre)
DESCRIPTION:Soirée de la Tenaille \nJeudi 15 juin 2023 de 18h à 23h30 à la Tendresse \nEn mixité choisie de genre (réservée aux femmes et genres minorisés – personnes transgenres\, non-binaires et intersexes\, sur la base de l’auto-détermination) avec ou sans enfants \nUne soirée pour se retrouver\, toucher des outils\, tâter des tenailles\, boire des coups\, imaginer ensemble la Tenaille #2\, s’organiser\, contribuer au projet d’abolition du patriarcat dans les milieux techniques\, proposer des ateliers\, reboire des coups… \nAu programme : \n– Stands & mini ateliers ( zinguerie\, meca auto & vélo\, éléctronique\, électricité\, sérigraphie et bien d’autres encore) \n– Rencontre et discussion autour du projet et de son organisation \n– Dévoilement de la date officielle du prochain festival \n– DJ set \nSoirée à Prix Libre (Prévois du Cash – On a pas la CB) \nBar et petite restauration sur place
URL:https://lepoing.net/evenement/soiree-de-la-tenaille-en-mixite-choisie-de-genre/
LOCATION:La Tendresse\, 80 impasse Flouch\, Montpellier\, France
CATEGORIES:Concert
ATTACH;FMTTYPE=image/jpeg:https://lepoing.net/wp-content/uploads/2023/06/ebf0bf96ce577164c019ee737d19260b-1.jpg
END:VEVENT
END:VCALENDAR