BEGIN:VCALENDAR
VERSION:2.0
PRODID:-//Le Poing - ECPv6.8.3//NONSGML v1.0//EN
CALSCALE:GREGORIAN
METHOD:PUBLISH
X-ORIGINAL-URL:https://lepoing.net
X-WR-CALDESC:Évènements pour Le Poing
REFRESH-INTERVAL;VALUE=DURATION:PT1H
X-Robots-Tag:noindex
X-PUBLISHED-TTL:PT1H
BEGIN:VTIMEZONE
TZID:Europe/Paris
BEGIN:DAYLIGHT
TZOFFSETFROM:+0100
TZOFFSETTO:+0200
TZNAME:CEST
DTSTART:20240331T010000
END:DAYLIGHT
BEGIN:STANDARD
TZOFFSETFROM:+0200
TZOFFSETTO:+0100
TZNAME:CET
DTSTART:20241027T010000
END:STANDARD
END:VTIMEZONE
BEGIN:VEVENT
DTSTART;TZID=Europe/Paris:20241012T190000
DTEND;TZID=Europe/Paris:20241012T210000
DTSTAMP:20260421T134013
CREATED:20241007T201510Z
LAST-MODIFIED:20241007T201510Z
UID:39736-1728759600-1728766800@lepoing.net
SUMMARY:Le Nouveau Front populaire\, l'énième illusion électorale ? Le débat du Poing
DESCRIPTION:– Débat sans concession le 12/10/2024 au Quartier Généreux –\n\nAu soir du 1er tour des législatives\, la menace de l’arrivée au pouvoir du RN a réactivé le « front républicain ». Le Nouveau Front populaire (NFP) a ainsi renoncé à présenter 129 de ses candidat•e•s sur les 415 qualifié•es pour le 2nd tour\, parvenant tout de même à l’emporter en nombre de sièges de députés.\nEmmanuel Macron a refusé de nommer à Matignon la candidate du NFP\, Lucie Castets\, préférant le très droitier Michel Barnier\, avec le soutien tacite de Marine Le Pen. La stratégie du barrage contre l’extrême-droite a fait élire des députés\, comme Elisabeth Borne ou Gérald Darmanin\, qui ont ensuite approuvé la nomination d’un Premier ministre sous pression du RN.\n\nQuel bilan tire le NFP de cette séquence ? Où commence et s’arrête le front républicain ? Pourquoi les « figures de la société civile » sont-elles (presque) toujours des cadres supérieurs\, comme Lucie Castets ? Est-ce crédible de promettre une rupture quand on s’allie avec le PS ? N’est-on pas condamné à décevoir quand on fait des élections le moteur du changement ? Comment penser la transformation sociale ?\n\nLe Poing ne prendra pas de gants pour poser ces questions à Alenka Doulain (élue locale “Montpellier Union Populaire Écologique et Sociale”) et Julia Mignacca (porte-parole d’Europe-Ecologie-les-Verts)\, en présence de Matthieu Gallandier (militant communiste libertaire\, co-auteur du livre Temps obscurs\, nationalisme et extrême droite en France et en Europe).
URL:https://lepoing.net/evenement/le-nouveau-front-populaire-lenieme-illusion-electorale-le-debat-du-poing/
LOCATION:Quartier Généreux\, 2\, Quai des Tanneurs\, Montpellier\, 34090
CATEGORIES:Débat
ATTACH;FMTTYPE=image/jpeg:https://lepoing.net/wp-content/uploads/2024/10/461428453_936105568552247_5775638760167484677_n.jpg
END:VEVENT
END:VCALENDAR