BEGIN:VCALENDAR
VERSION:2.0
PRODID:-//Le Poing - ECPv6.8.3//NONSGML v1.0//EN
CALSCALE:GREGORIAN
METHOD:PUBLISH
X-ORIGINAL-URL:https://lepoing.net
X-WR-CALDESC:Évènements pour Le Poing
REFRESH-INTERVAL;VALUE=DURATION:PT1H
X-Robots-Tag:noindex
X-PUBLISHED-TTL:PT1H
BEGIN:VTIMEZONE
TZID:Europe/Paris
BEGIN:DAYLIGHT
TZOFFSETFROM:+0100
TZOFFSETTO:+0200
TZNAME:CEST
DTSTART:20230326T010000
END:DAYLIGHT
BEGIN:STANDARD
TZOFFSETFROM:+0200
TZOFFSETTO:+0100
TZNAME:CET
DTSTART:20231029T010000
END:STANDARD
END:VTIMEZONE
BEGIN:VEVENT
DTSTART;TZID=Europe/Paris:20230803T100000
DTEND;TZID=Europe/Paris:20230806T230000
DTSTAMP:20260425T132548
CREATED:20230504T213550Z
LAST-MODIFIED:20230504T214052Z
UID:34751-1691056800-1691362800@lepoing.net
SUMMARY:Les Résistantes - Rencontres des luttes locales et globales sur le plateau du Larzac
DESCRIPTION:Pendant 4 jours\, nous invitons toutes les composantes des luttes contre des projets destructeurs et pour le Vivant à se retrouver sur le plateau du Larzac ! \nSont ainsi invitées les plus de 570 luttes locales identifiées sur la carte de Reporterre\, mais aussi des organisations paysannes\, syndicales\, associatives\, des mouvements sociaux\, climat\, féministes et bien d’autres avec un objectif : se retrouver et s’organiser ensemble pour renforcer et globaliser nos luttes. \nCe temps sera bien sur une grande fête\, qui montrera la vivacité et la diversité des parties prenantes de nos combats\, à l’image des événements qui ont rythmé tant de luttes historiques à Notre-Dame-des-Landes\, Bure ou au Larzac bien sûr : ce sera d’ailleurs l’occasion de célébrer sur place les 50 ans du rassemblement du Rajal del Gorp et les 20 ans de celui contre le sommet de l’OMC\, deux événements historiques massifs qui ont renforcé tout le mouvement altermondialiste. \nConcrètement\, ces 4 jours seront l’occasion d’inviter de nouvelles personnes à rejoindre nos luttes\, de préparer des perspectives de mobilisation ensemble\, de se former\, de célébrer nos victoires\, de voir comment s’entraider et de renforcer les coalitions de luttes géographiques ou thématiques qui se montent  un peu partout. Concerts\, ateliers\, assemblées\, rencontres\, formations\, projections-débats\, spectacles\, espace enfants\, balades naturalistes\, radio participative et bien d’autres choses seront ainsi au rendez-vous ! \nPlus d’infos : http://lesresistantes2023.fr/
URL:https://lepoing.net/evenement/les-resistantes-rencontres-des-luttes-locales-et-globales-sur-le-plateau-du-larzac/
LOCATION:Plateau du Larzac\, Millau\, 12230\, France
CATEGORIES:Festival
ATTACH;FMTTYPE=image/jpeg:https://lepoing.net/wp-content/uploads/2023/05/a4d8ecbbe7e96d71707e1aaeb77a40b6.jpg
END:VEVENT
END:VCALENDAR