BEGIN:VCALENDAR
VERSION:2.0
PRODID:-//Le Poing - ECPv6.8.3//NONSGML v1.0//EN
CALSCALE:GREGORIAN
METHOD:PUBLISH
X-ORIGINAL-URL:https://lepoing.net
X-WR-CALDESC:Évènements pour Le Poing
REFRESH-INTERVAL;VALUE=DURATION:PT1H
X-Robots-Tag:noindex
X-PUBLISHED-TTL:PT1H
BEGIN:VTIMEZONE
TZID:Europe/Paris
BEGIN:DAYLIGHT
TZOFFSETFROM:+0100
TZOFFSETTO:+0200
TZNAME:CEST
DTSTART:20230326T010000
END:DAYLIGHT
BEGIN:STANDARD
TZOFFSETFROM:+0200
TZOFFSETTO:+0100
TZNAME:CET
DTSTART:20231029T010000
END:STANDARD
END:VTIMEZONE
BEGIN:VEVENT
DTSTART;TZID=Europe/Paris:20230916T210000
DTEND;TZID=Europe/Paris:20230916T230000
DTSTAMP:20260425T143659
CREATED:20230910T233236Z
LAST-MODIFIED:20230910T233443Z
UID:35474-1694898000-1694905200@lepoing.net
SUMMARY:Spectacle de Daniel Villanova en soutien au Centre Ascaso-Durruti
DESCRIPTION:En soutien au Centre Ascaso-Durruti \, Daniel VILLANOVA nous présentera son dernier spectacle « Bourougnan speaks Molière » à la salle Georges Dezeuze de Clapiers (240 places)\, le samedi 16 septembre à 21 h. Buvette sur place dès 20 h. \nN’oubliez-pas de réserver vos places : \nDeux possibilités : \n–     De préférence par courriel à l’adresse suivante : cad@ascaso-durruti.info en indiquant votre nom et le nombre de places à réserver. Nous vous confirmerons la réservation par retour d’e-mail. \n–     Sinon par téléphone au 04 67 59 41 48 du mardi au vendredi de 17h à 19h. N’hésitez-pas à laisser un message vocal si personne au bout du fil\, nous vous rappellerons.
URL:https://lepoing.net/evenement/spectacle-de-daniel-villanova-en-soutien-au-centre-ascaso-durruti/
LOCATION:Salle Georges Dezeuze\, Place Max Leenhardt\, Clapiers\, 34830
CATEGORIES:Spectacle
ATTACH;FMTTYPE=image/jpeg:https://lepoing.net/wp-content/uploads/2023/09/5183d05c8eb0f8da124489c917341ebe-1.jpg
END:VEVENT
END:VCALENDAR