BEGIN:VCALENDAR
VERSION:2.0
PRODID:-//Le Poing - ECPv6.8.3//NONSGML v1.0//EN
CALSCALE:GREGORIAN
METHOD:PUBLISH
X-ORIGINAL-URL:https://lepoing.net
X-WR-CALDESC:Évènements pour Le Poing
REFRESH-INTERVAL;VALUE=DURATION:PT1H
X-Robots-Tag:noindex
X-PUBLISHED-TTL:PT1H
BEGIN:VTIMEZONE
TZID:Europe/Paris
BEGIN:DAYLIGHT
TZOFFSETFROM:+0100
TZOFFSETTO:+0200
TZNAME:CEST
DTSTART:20190331T010000
END:DAYLIGHT
BEGIN:STANDARD
TZOFFSETFROM:+0200
TZOFFSETTO:+0100
TZNAME:CET
DTSTART:20191027T010000
END:STANDARD
END:VTIMEZONE
BEGIN:VEVENT
DTSTART;TZID=Europe/Paris:20190227T193000
DTEND;TZID=Europe/Paris:20190227T230000
DTSTAMP:20260420T125345
CREATED:20190226T172637Z
LAST-MODIFIED:20190226T172637Z
UID:12329-1551295800-1551308400@lepoing.net
SUMMARY:Ciné-club du Barricade : 93 La Belle Rebelle
DESCRIPTION:Le cinéclub#Barricade clôture son cycle intitulé : Culture et luttes sociales. \nAvec 93 la belle rebelle\, le réalisateur Jean-Pierre Thorn propose un stimulant mélange des deux grands thèmes qui structurent son œuvre cinématographique : les luttes sociales et les cultures populaires. Il brosse une Histoire de la musique en banlieue. Et puisque les musiques dont il s’agit sont celles qui sont nées depuis les années 1960\, elles résultent\, épousent et accompagnent les mutations sociales qu’a vécues la Seine-Saint-Denis. Images d’archives\, extraits de films et de concerts et témoignages se répondent pour dresser une fresque qui permet de relier le milieu ouvrier de l’après-guerre et les cités d’aujourd’hui. Rock (avec Daniel Baudon\, de Sixties Memory)\, jazz et chanson (Marc Perrone)\, punk (Loran de Bérurier Noir)\, rap et plus largement hip-hop (NTM\, Dee Nasty\, Casey et Zone Libre\, D’ de Kabal) : le film aborde ces courants de manière chronologique\, ponctuant chacun de ces chapitres avec des évocations des changements urbains et du traitement médiatique des territoires considérés. Des bidonvilles des années 1960 aux cabanes le long des voies ferrées d’aujourd’hui\, de la construction des barres à leur démolition\, de la peur des médias face au rock à la stigmatisation politique du hip-hop\, du discours du maire de Paris Jacques Chirac sur « le bruit et l’odeur » à celui du ministre de l’Intérieur Nicolas Sarkozy sur le « Kärcher » promis à la jeunesse des cités en passant par son prédécesseur Jean-Pierre Chevènement dénonçant les « sauvageons » de banlieue\, à aucun moment les mouvements musicaux ne sont abstraits de leur contexte social et politique.\nLa séance sera suivie d’une discussion avec le public.\nEntrée libre. \nRéalisation : Jean-Pierre Thorn\nDurée : 73 minutes\nAnnée : 2011\nPays : France\nBande-annonce :\n\nLe doc en streaming : https://vimeo.com/64940084
URL:https://lepoing.net/evenement/cine-club-du-barricade-93-la-belle-rebelle/
LOCATION:Le Barricade\, 5 rue Bonnie\, Montpellier\, Occitanie\, 34000\, France
CATEGORIES:Débat,Projection
ATTACH;FMTTYPE=image/jpeg:https://lepoing.net/wp-content/uploads/2019/02/Capture-7.jpg
END:VEVENT
BEGIN:VEVENT
DTSTART;TZID=Europe/Paris:20190228T140000
DTEND;TZID=Europe/Paris:20190228T170000
DTSTAMP:20260420T125345
CREATED:20190226T210503Z
LAST-MODIFIED:20190226T210503Z
UID:12356-1551362400-1551373200@lepoing.net
SUMMARY:Réunion des précaires de l'éducation
DESCRIPTION:Aux précaires de l’éducation nationale\, d’Hérault et de Navarre \nL’Education Nationale se gave de précaires. Derrière ces acronymes obscurs AED\, AESH\, AVS\, une même réalité: les semaines sont longues et les fins de mois sont maigres. \nCeux qui nous exploitent ont bien compris l’intérêt d’avoir recours à nos petites mains. La logique est simple : nous coûtons moins cher. Nous n’existons pour le rectorat et Pôle Emploi que comme personnels temporaires et interchangeables. \nComme des millions de travailleurs précaires d’autres secteurs\, nous sommes pris dans la spirale de la survie quotidienne. Et bien souvent\, faute d’appuis solides\, nous la fermons et subissons. \nNous sommes quelques personnes à partager le constat de notre isolement et à chercher des pistes pour en sortir. S’organiser collectivement pour se donner de la force\, définir ce que nous réclamons et construire les futures grèves que nous feront\, est un début! \nRDV jeudi 28 février à 14h à L’Astragale\n21 rue Pierre Sémard à Sète
URL:https://lepoing.net/evenement/reunion-des-precaires-de-leducation/
LOCATION:L’Astragale\, 21 rue Pierre Sémard\, Sète\, Occitanie\, 34200\, France
CATEGORIES:Réunion
ATTACH;FMTTYPE=image/jpeg:https://lepoing.net/wp-content/uploads/2019/02/52592504_719269168467286_6471516048548954112_n.jpg
ORGANIZER;CN="Working Class H%C3%A9rault":MAILTO:https://www.facebook.com/workingclassherault/
END:VEVENT
END:VCALENDAR