BEGIN:VCALENDAR
VERSION:2.0
PRODID:-//Le Poing - ECPv6.8.3//NONSGML v1.0//EN
CALSCALE:GREGORIAN
METHOD:PUBLISH
X-WR-CALNAME:Le Poing
X-ORIGINAL-URL:https://lepoing.net
X-WR-CALDESC:Évènements pour Le Poing
REFRESH-INTERVAL;VALUE=DURATION:PT1H
X-Robots-Tag:noindex
X-PUBLISHED-TTL:PT1H
BEGIN:VTIMEZONE
TZID:Europe/Paris
BEGIN:DAYLIGHT
TZOFFSETFROM:+0100
TZOFFSETTO:+0200
TZNAME:CEST
DTSTART:20210328T010000
END:DAYLIGHT
BEGIN:STANDARD
TZOFFSETFROM:+0200
TZOFFSETTO:+0100
TZNAME:CET
DTSTART:20211031T010000
END:STANDARD
END:VTIMEZONE
BEGIN:VEVENT
DTSTART;TZID=Europe/Paris:20210202T083000
DTEND;TZID=Europe/Paris:20210202T110000
DTSTAMP:20260424T144556
CREATED:20210201T184208Z
LAST-MODIFIED:20210201T184208Z
UID:25007-1612254600-1612263600@lepoing.net
SUMMARY:Rassemblement pour Mohamed Gabsi\, tué aux mains de la police
DESCRIPTION:Le 8 avril 2020\, Mohamed Gabsi décède peu après son interpellation pour non respect du couvre-feu par la police municipale de Béziers. Trois policiers sont mis en examen le 18 décembre 2020\, dont un pour “violences volontaires ayant entraîné la mort sans intention de la donner” et placé sous contrôle judiciaire avec interdiction d’exercer dans la police et de porter une arme. \nIl y a mort d’homme. Les policiers sont libres. Ils font appel pour dénoncer leur mise en examen… \nA l’appel d’Houda Gabsi\, la sœur du défunt\, le collectif “Justice pour Mohamed”\, qui organise chaque mois rassemblements à Béziers pour réclamer justice et vérité\, appelle à un rassemblement de soutien devant la Cour d’appel de Montpellier ce mardi 2 février 2021 à 8h30.
URL:https://lepoing.net/evenement/rassemblement-pour-mohamed-gabsi-tue-aux-mains-de-la-police/
LOCATION:Cour d’appel de Montpellier\, 1 rue Foch\, Montpellier\, Hérault\, 34023\, France
CATEGORIES:Rassemblement
ATTACH;FMTTYPE=image/jpeg:https://lepoing.net/wp-content/uploads/2021/02/120503511_172861414479236_7750941621759470152_n.jpg
END:VEVENT
BEGIN:VEVENT
DTSTART;TZID=Europe/Paris:20210203T130000
DTEND;TZID=Europe/Paris:20210203T170000
DTSTAMP:20260424T144556
CREATED:20210201T203417Z
LAST-MODIFIED:20210201T203417Z
UID:25018-1612357200-1612371600@lepoing.net
SUMMARY:Assemblée générale contre la précarité et pour la réouverture des universités
DESCRIPTION:Ce mercredi 03 février à 13h se tiendra une Assemblée Générale à Paul Valéry au parvis des amphis.\n\nNous étions nombreux et nombreuses le 26 janvier\, faisons-en le début d’un mouvement d’ampleur !\n\nMobilisons-nous en masse contre la précarité étudiante et pour la réouverture des universités !
URL:https://lepoing.net/evenement/assemblee-generale-contre-la-precarite-et-pour-la-reouverture-des-universites/
LOCATION:Université Paul Valéry\, Route de Mende\, Montpellier\, Hérault\, 34090\, France
CATEGORIES:Assemblée générale
ATTACH;FMTTYPE=image/jpeg:https://lepoing.net/wp-content/uploads/2021/02/144406915_1571013446440956_3569455847960895907_n.jpg
ORGANIZER;CN="Solidaires %C3%89tudiant%C2%B7e%C2%B7s Montpellier":MAILTO:solidaires.etudiants.34@gmail.com
END:VEVENT
BEGIN:VEVENT
DTSTART;TZID=Europe/Paris:20210204T103000
DTEND;TZID=Europe/Paris:20210204T123000
DTSTAMP:20260424T144556
CREATED:20210201T210927Z
LAST-MODIFIED:20210201T210927Z
UID:25022-1612434600-1612441800@lepoing.net
SUMMARY:Manifestation interprofessionnelle pour l'emploi\, les services publics et la jeunesse
DESCRIPTION:Depuis mars 2020 et plus encore depuis le mois de novembre l’ensemble des activités économiques\, sociales et culturelles du pays sont gravement touchées par la pandémie. Les décisions gouvernementales régulièrement prises dans le désordre\, l’incohérence et le manque d’anticipation aggravent la situation déjà désastreuse pour le monde du travail\, la vie en société et la santé de nos concitoyen-ne-s. \nIl est de la responsabilité de nos organisations d’impulser un processus de mobilisations et d’initiatives dès maintenant pour la préservation et le développement de l’emploi\, des services publics\, et l’avenir de la jeunesse. \nUne mobilisation pour l’emploi\, contre le chômage et la précarité doit être engagée dans le pays. L’année 2021 va être marquée par de nombreux plans sociaux\, des vagues de licenciements\, la non-reconduction d’emplois temporaires (CDD et intérim)\, des ruptures conventionnelles détournées\, des fermetures d’entreprises ou restructurations et réductions de services\, y compris dans les domaines essentiels à la lutte contre la pandémie (l’industrie du médicament par exemple). La politique engagée par le gouvernement accentue le mouvement : rien pour les petits salaires (revalorisation du SMIC en dessous d’1% pour 2021)\, rien non plus pour les 1ers de corvée\, exposés depuis le début de la pandémie. Toutes et tous devront attendre une hypothétique négociation dans leurs secteurs professionnels fin 2021. Les réformes successives qui facilitent les licenciements et les suppressions de postes dans le privé comme dans le public\, qui accordent des aides aux entreprises et aux actionnaires sans contrepartie\, doivent être abandonnées et le pays doit s’engager dans une rupture radicale avec le modèle libéral qui conduit à la casse de l’appareil productif\, des services publics et au dérèglement climatique. \nLes services publics doivent être au centre du modèle économique et social pour construire et restaurer les conditions de l’avenir du pays. Dans le secteur de la santé\, ce sont 400 000 emplois à créer dans les hôpitaux\, les maisons de retraite ou l’accompagnement des malades et des personnes en perte d’autonomie. Dans l’éducation nationale et l’enseignement supérieur des plans d’urgence et des programmations pluriannuelles de créations de postes doivent être mis en place pour assurer la formation des jeunes\, réparer les dégâts de la pandémie\, lutter contre les inégalités d’accès aux savoirs\, aux formations et à la culture qui se sont aggravées. Plus globalement ce sont l’ensemble des services publics (énergie\, environnement\, services sociaux\, médicaments et matériel médical\, etc.) et un haut niveau de protection sociale qui vont permettre au pays de sortir du marasme dans lequel 30 ans de libéralisme nous ont conduit. Les besoins de la population et les chantiers sont immenses. \nLa jeunesse dans toutes ses composantes doit revenir au cœur des préoccupations du pays.  Elle est depuis le début de la pandémie la principale victime : accès au marché du travail dégradé\, conditions de vie étudiante déplorables\, isolement social\, paupérisation\, perspectives d’avenir incertaines\, problèmes de santé. Les chiffres sont clairs : 47% des jeunes s’inquiètent pour leur emploi et le taux de chômage des jeunes a dépassé les 20%. Le second confinement les a fait plonger dans l’extrême précarité. Nombre d’entre elles et eux ne mangent pas à leur faim. A cela s’ajoute la difficulté de suivre les cours à distance\, la peur de l’échec et une détresse psychologique forte. \nDans ce contexte où les attaques liberticides du gouvernement se multiplient\, nous affirmons que la réponse aux besoins de toute la population\, l’avenir de la jeunesse et la réussite de la transition écologique imposent une réelle rupture dans les mesures politiques adoptées : création de millions d’emplois\, partage  et réduction du temps de travail\, un plan de relance ambitieux\, au service des salarié.es\, de privé.es d’emplois\, des fonctionnaires\, des retraité.es\, des jeunes pour renforcer les solidarités sociales\, environnementales et intergénérationnelles. \nC’est pourquoi\, nos organisations CGT\, FSU et Solidaires appellent\, dans une dynamique de convergences et de renforcement des luttes et des mobilisations professionnelles déjà programmées (dans la santé le 21 janvier\, l’éducation nationale le 26\, ou l’énergie le 28)\, à un temps fort commun interprofessionnel de mobilisations et de grève le 4 février 2021. \n\nMontpellier le 25 janvier 2021
URL:https://lepoing.net/evenement/manifestation-interprofessionnelle-pour-lemploi-les-services-publics-et-la-jeunesse/
LOCATION:Place Albert 1er\, Place Albert 1er\, Montpellier\, France
CATEGORIES:Manifestation
ATTACH;FMTTYPE=image/jpeg:https://lepoing.net/wp-content/uploads/2021/02/Capture.jpg
END:VEVENT
BEGIN:VEVENT
DTSTART;TZID=Europe/Paris:20210207T143000
DTEND;TZID=Europe/Paris:20210207T153000
DTSTAMP:20260424T144556
CREATED:20210206T194711Z
LAST-MODIFIED:20210206T210002Z
UID:25161-1612708200-1612711800@lepoing.net
SUMMARY:Face à une justice patriarcale qui protège les siens\, réclamons #JusticePourJulie
DESCRIPTION:Ce dimanche 7 février\, un rassemblement est appelé devant la cour d’appel de Montpellier à 14h30 en soutien à Julie. Avec sa mère\, Corinne Leriche\, elles se battent depuis près de dix ans contre un évident déni de justice qui révèle l’ampleur de la culture de viol en France. \nJulie a été victime de viols collectifs entre ses treize et quinze ans\, affaire pour laquelle vingt pompiers de Paris sont accusés. En 2019 la justice avait requalifié les faits en « atteinte sexuelle » et seuls trois pompiers ont été envoyés devant le tribunal correctionnel. Une pétition accompagné d’un texte de la maman de Julie\, Corinne Leriche\, expliquant leur combat\, et recensant plus de 245 000 signatures\, est également en ligne (nous prévenons nos lectrices et lecteurs\, le contenu du texte accompagnant la pétition est particulièrement difficile à lire). \nLa cour de cassation de Paris doit se prononcer mercredi prochain\, 10 février 2021. Si les faits ne sont pas requalifiés\, seuls 3 pompiers seront jugés pour simple atteinte sexuelle et 17 autres ne seront plus jamais inquiétés pour ces faits. Des rassemblements similaires sont appelés devant tous les Palais de Justice de France afin de réclamer justice pour Julie. A l’heure de la vague #MeTooInceste\, espérons qu’enfin\, l’affaire soit réellement médiatisée et que véritable justice soit rendue.
URL:https://lepoing.net/evenement/face-a-une-justice-patriarcale-qui-protege-les-siens-reclamons-justicepourjulie/
LOCATION:Cour d’appel de Montpellier\, 1 rue Foch\, Montpellier\, Hérault\, 34023\, France
CATEGORIES:Rassemblement
ATTACH;FMTTYPE=image/png:https://lepoing.net/wp-content/uploads/2021/02/146405379_113822510677759_8518351636923614344_o.png
END:VEVENT
BEGIN:VEVENT
DTSTART;TZID=Europe/Paris:20210210T103000
DTEND;TZID=Europe/Paris:20210210T120000
DTSTAMP:20260424T144556
CREATED:20210207T134237Z
LAST-MODIFIED:20210207T134357Z
UID:25188-1612953000-1612958400@lepoing.net
SUMMARY:Rassemblement pour le respect des droits des trois locataires sétois de la rue de Tunis
DESCRIPTION:Depuis 13\, 16 et 20 ans\, Abdallah\, Driss et Abdelaziz payent un loyer pour vivre dans un taudis au 8 rue de Tunis\, à Sète. En janvier 2020\, les propriétaires demandent aux locataires de partir pour effectuer les travaux. Un collectif de soutien aux locataires se monte et organise plusieurs rassemblements. Tout s’accélère. Pendant l’hiver 2020-2021\, une commission sur le logement indigne se tient et un arrêté de mise en sécurité impose aux propriétaires\, ou à la mairie en cas de défaillance de ces-derniers\, de proposer un relogement le temps des travaux. Un arrêté de péril plane même dans l’air\, mais aucune solution concrète de relogement n’est proposée aux trois locataires\, qui ont leur repère dans le quartier. Pour que leurs droits soient respectés\, le « Collectif Logement Sète » appelle à un rassemblement le mercredi 10 février à 10h30 devant la mairie de Sète. \nInformations disponibles sur la page facebook du collectif et confirmées par une membre du collectif.
URL:https://lepoing.net/evenement/rassemblement-pour-le-respect-des-droits-des-trois-locataires-setois-de-la-rue-de-tunis/
LOCATION:Place de la mairie de Sète\, 20 bis rue Paul Valéry\, Sète\, Hérault\, 34200\, France
CATEGORIES:Rassemblement
ATTACH;FMTTYPE=image/png:https://lepoing.net/wp-content/uploads/2021/02/129662324_106408404657473_1714731015060294671_o.png
END:VEVENT
BEGIN:VEVENT
DTSTART;TZID=Europe/Paris:20210211T193000
DTEND;TZID=Europe/Paris:20210211T210000
DTSTAMP:20260424T144556
CREATED:20210206T210813Z
LAST-MODIFIED:20210206T210813Z
UID:25164-1613071800-1613077200@lepoing.net
SUMMARY:Droits des Kurdes\, Rojava\, où en est-on ?
DESCRIPTION:Répression en Turquie\, agression militaire et féminicides en Syrie\, les Kurdes sont encore et toujours l’objet de persécutions de la part du gouvernement turc. Même en France\, alors qu’Emmanuel Macron semble gonfler les muscles face à Erdogan\, les militants du PKK sont arrêtés et poursuivis pour « terrorisme ». \nAvec un.e membre du CDK (Centre Démocratique Kurde) de Montpellier\, il s’agit d’abord de faire le point sur l’actualité de la répression contre les Kurdes en Turquie\, la nouvelle condamnation de Leyla Güven et les campagnes de solidarité en cours\, notamment la reprise de la campagne du CDK pour la libération d’Abdullah Öcalan\, leader kurde emprisonné depuis 22 ans. \nPuis la parole sera donnée à notre invité du jour : Pierre Bance\, auteur de “La fascinante démocratie du Rojava“\, pour revenir sur cette expérience unique de Fédération démocratique de la Syrie du Nord et savoir\, deux ans après l’invasion turque\, où en est le territoire autonome du Rojava? \nCette web conférence est organisée en partenariat avec le Collectif de solidarité avec le peuple kurde de Montpellier. \nEn raison du maintien de fermeture des espaces accueillant du public\, cette conférence-débat ne sera accessible qu’en ligne sur la web-TV de la Carmagnole.\nPour suivre et participer :\n• Abonnez-vous (si ce n’est déjà fait) à notre chaîne vidéo accessible en cliquant ici\n• Connectez-vous en cliquant sur ce lien peu avant 19h30\n• Pour interagir\, posez vos questions via le “chat” de la chaîne.
URL:https://lepoing.net/evenement/droits-des-kurdes-rojava-ou-en-est-on/
LOCATION:Sur internet\, Sur internet
CATEGORIES:Conférence
ATTACH;FMTTYPE=image/jpeg:https://lepoing.net/wp-content/uploads/2020/06/kurde.jpg
END:VEVENT
BEGIN:VEVENT
DTSTART;TZID=Europe/Paris:20210213T110000
DTEND;TZID=Europe/Paris:20210213T140000
DTSTAMP:20260424T144556
CREATED:20210207T003512Z
LAST-MODIFIED:20210210T203402Z
UID:25179-1613214000-1613224800@lepoing.net
SUMMARY:Marche des libertés contre la loi “sécurité globale”
DESCRIPTION:11h départ Parc Tastavin (arrêt Mas Drevon – Ligne 2) – Arrivée Place Roger Salengro\nAtelier maquillage zéro reconnaissance faciale\nDrôles de drones\nInformations / Discussions\nSound Systems\nBatucadas\nPerformances\n…\nFestif et familial !\nPensez à respecter les gestes barrières (distanciation sociale 1m50) et le port du masque
URL:https://lepoing.net/evenement/marche-des-libertes-contre-la-loi-securite-globale/
LOCATION:Parc Tastavin\, Parc Tastavin\, Montpellier\, Hérault\, 34070\, France
CATEGORIES:Manifestation
ATTACH;FMTTYPE=image/jpeg:https://lepoing.net/wp-content/uploads/2021/02/148938790_147230113883655_5498327641151983600_o.jpg
END:VEVENT
BEGIN:VEVENT
DTSTART;TZID=Europe/Paris:20210213T110000
DTEND;TZID=Europe/Paris:20210213T160000
DTSTAMP:20260424T144556
CREATED:20210210T204403Z
LAST-MODIFIED:20210210T204403Z
UID:25278-1613214000-1613232000@lepoing.net
SUMMARY:Mobilisation pour que la culture revienne dans nos vies
DESCRIPTION:
URL:https://lepoing.net/evenement/mobilisation-pour-que-la-culture-revienne-dans-nos-vies/
LOCATION:Place de la Comédie
CATEGORIES:Rassemblement
ATTACH;FMTTYPE=image/jpeg:https://lepoing.net/wp-content/uploads/2021/02/carmagnole-768x1494-1.jpg
END:VEVENT
BEGIN:VEVENT
DTSTART;TZID=Europe/Paris:20210214T130000
DTEND;TZID=Europe/Paris:20210214T160000
DTSTAMP:20260424T144556
CREATED:20210210T202827Z
LAST-MODIFIED:20210210T202827Z
UID:25272-1613307600-1613318400@lepoing.net
SUMMARY:Rendez-vous des assistants d'éducation de Montpellier et des alentours
DESCRIPTION:Pour info\, on se retrouve ce Dimanche 14 Février à 13h au local Le Barricade à #Montpellier (quartier de la gare Saint Roch\, 14 rue Aristide Ollivier) pour boire un pot\, se rencontrer et échanger sur les suites de la mobilisation des AED et AESH\, notamment en vue du mois de mars.\n\nOn compte sur la présence de représentants d’un maximum de bahuts de Montpellier et de ses alentours.\n\nUnis et déterminés\, nous gagnerons !\n\nA dimanche!\n\n#NousNeSommesPasVosPions
URL:https://lepoing.net/evenement/rendez-vous-des-assistants-deducation-de-montpellier-et-des-alentours/
LOCATION:Le Barricade\, 5 rue Bonnie\, Montpellier
CATEGORIES:Apéro,Réunion
ATTACH;FMTTYPE=image/jpeg:https://lepoing.net/wp-content/uploads/2021/02/148553336_143821227561352_2991598899651868911_o.jpg
END:VEVENT
BEGIN:VEVENT
DTSTART;TZID=Europe/Paris:20210216T160000
DTEND;TZID=Europe/Paris:20210216T173000
DTSTAMP:20260424T144556
CREATED:20210201T211207Z
LAST-MODIFIED:20210201T211207Z
UID:25025-1613491200-1613496600@lepoing.net
SUMMARY:Rassemblement de soutien pour Souleymane\, menacé d'expulsion
DESCRIPTION:Mobilisation citoyenne pour soutenir ce Guinéen de 24 ans en France depuis 2 ans et aujourd’hui menacé d’expulsion alors-même qu’il dispose d’un CDI dans une boulangerie près de Montpellier et que son patron le juge comme “indispensable” au fonctionnement de son établissement.\n\nLorsqu’il est arrivé de Guinée il y a deux ans après avoir fui des violences familiales et risqué sa vie pour venir se reconstruire en France\, il ne parlait pas français et ne connaissait personne. En seulement deux ans il a appris notre langue\, il s’est créé un réseau de soutiens citoyens solidaires et associatifs qui tous l’apprécient du fait de sa bienveillance et de son investissement\, et enfin il a réussi à décrocher un CDI à force de travail et de volonté (soulignons qu’il n’avait aucune expérience en boulangerie avant d’arriver en France et qu’il se rendait tous les matins en scooter à Fabrègues alors qu’il habitait Montpellier).\n\nPlus\, il est devenu l’ami de beaucoup d’entre nous et il n’a eu aucun mal à s’intégrer dans un groupe de jeunes français de son âge avec qui il a partagé après-midi plage\, barbecue et autres soirées comme n’importe quel montpelliérain de 24 ans !\n\nC’est pourquoi nous sommes beaucoup à être touchés par cette menace d’expulsion\, que l’on soit son ami\, son patron\, son collègue ou son voisin. Pourquoi renvoyer un jeune doué dans ce qu’il fait et qui dispose déjà d’un réseau de relations chez nous ? Nous avons besoin de Souleymane !!!\n\nDeux recours ont déjà été lancés par son avocate Sophie Mazas\, mais on sait à quel point la Justice française se montre intransigeante lorsqu’il n’y a pas de mobilisation citoyenne. Cette fois-ci ne nous laissons pas faire !\n\nDernier espoir avant son expulsion\, le recours pour contester son OQTF (Obligation de Quitter le Territoire Français) aura lieu le 16 Février au Tribunal Administratif de Montpellier. A l’initiative de ses amis\, de son patron\, des associations La Ligue des Droits de l’Homme\, de La Cimade et de La Libre Pensée\, nous organisons donc un rassemblement pour soutenir Souleymane le jour où le juge décidera de son avenir en France et ce avec l’espoir de prouver aux institutions que nous sommes nombreux à vouloir qu’il reste parmi nous !\n\nIl n’est pas sans rappeler la récente mobilisation pour le jeune Guinéen Laye Fodé Traoré\, en apprentissage dans une boulangerie de Besançon\, qui a aboutie à sa régularisation le 14 Janvier dernier.\n\nLe gouvernement l’a prouvé\, il s’incline lorsque les citoyens se mobilisent en nombre !\nUne pétition est déjà lancée avec plus de 30 000 signatures\, plusieurs articles sont parus dans Midi-Libre ou le Métropolitain et les députés Patrick Vignal (LREM) et Muriel Ressiguier (LFI) ont écrit une lettre à la Préfecture de l’Hérault pour soutenir Souleymane ! Lors d’un rassemblement devant sa boulangerie le 23 Janvier dernier\, étaient également présents une autre député LaRem Patricia Murailles\, le sénateur Les Républicains Jean-Pierre Grand\, le sénateur Parti Socialiste Hussein Bourgi\, mais également Serge Desseigne (élu de Villeneuve-les-Maguelone) ou encore la maire de Murviel-les-Montpellier\, Isabelle Touzard et Serge Ragazacci\, secrétaire général de l’Union départemental CGT.\n\nMême la classe politique se mobilise pour Souleymane !\n\nPatrick Vignal : “On marche sur la tête dans ce pays. On a un jeune qui veut travailler\, qui plus est dans un secteur comme la boulangerie où on ne trouve plus de boulanger\, et on lui ordonne de quitter le territoire. Ce n’est pas normal\, il y a une injustice” ou encore “Il va falloir qu’en France on soit plus intelligents”\, tels sont les mots utilisés par le député de la majorité présidentielle !!!\n\nPour Souleymane et pour la France\, rendez-vous Mardi 16 Février devant le Tribunal Administratif de Montpellier au 6 rue Pitot. Venez nombreux !!!!
URL:https://lepoing.net/evenement/rassemblement-de-soutien-pour-souleymane-menace-dexpulsion/
LOCATION:Tribunal administratif de Montpellier\, 6 rue Pitot\, Montpellier\, Hérault\, 34000\, France
CATEGORIES:Rassemblement
ATTACH;FMTTYPE=image/jpeg:https://lepoing.net/wp-content/uploads/2021/02/142588374_10222079399926727_6957432176345029789_n.jpg
END:VEVENT
BEGIN:VEVENT
DTSTART;TZID=Europe/Paris:20210221T140000
DTEND;TZID=Europe/Paris:20210221T160000
DTSTAMP:20260424T144556
CREATED:20210220T142603Z
LAST-MODIFIED:20210220T142603Z
UID:25480-1613916000-1613923200@lepoing.net
SUMMARY:Rassemblement pour le deuxième anniversaire du Hirak
DESCRIPTION:Comme le 1er Novembre 1954 et le 5 Juillet 1962\, la date du 22 Février 2019 symbolise un autre palier dans la longue marche pour la liberté réelle du peuple algérien.\n\nLiberté de s’exprimer\, de marcher\, de se réunir et crier sa détermination de mettre fin à un pouvoir militaro-sécuritaire dans lequel les civils ne sont plus que des faire-valoir.\nLiberté d’exiger le départ concret de tous ceux que le Hirak a désignés comme 3ISSABA sous son slogan « YATNAHAW GAA »\n\nLiberté d’exiger une justice déconnectée des téléphones\, une justice qui ne se déshonore pas en demandant la prison à perpétuité pour un jeune blogueur qui venait de subir une torture quasi-institutionnelle.\n\nLiberté d’exiger la justice sociale sous toutes ses formes contre un libéralisme de brigands qui appauvrit le plus grand nombre et enrichit ou protège de façon scandaleuse une minorité influente.\n\nLiberté de créer\, publier\, de s’exprimer dans toutes les langues du pays et en particulier celles qui plongent dans sa véritable dimension historique.\n\nLiberté de dénoncer la pagaille institutionnelle d’un pays où le « Président » est médicalement incapable d’exercer ses fonctions sans qu’aucune institution ne puisse le dire ouvertement.\nRendez-vous dimanche 21 février 2021 à 14h esplanade Charles de Gaulle (près de l’office du tourisme)\n\nNOTRE RASSEMBLEMENT SYMBOLIQUE CE 21 FEVRIER 2021 NOUS PERMET D’AJOUTER NOS VOIX A LA COLERE NATIONALE.\n\nاسمعوا اسمعوا يا ناس الحراك خلى وصاية\nالحرية جاية ولباس\nGhas ghezzif ubridh\, yiwen ur ihebbes thikhli ugdhudh ar thilleli\n\n« Madaniya machi Aaskariya »
URL:https://lepoing.net/evenement/rassemblement-pour-le-deuxieme-anniversaire-du-hirak/
LOCATION:Place de la Comédie
CATEGORIES:Rassemblement
ATTACH;FMTTYPE=image/jpeg:https://lepoing.net/wp-content/uploads/2021/02/151213240_841004436444739_3304820126964429473_n.jpg
END:VEVENT
END:VCALENDAR