BEGIN:VCALENDAR
VERSION:2.0
PRODID:-//Le Poing - ECPv6.8.3//NONSGML v1.0//EN
CALSCALE:GREGORIAN
METHOD:PUBLISH
X-ORIGINAL-URL:https://lepoing.net
X-WR-CALDESC:Évènements pour Le Poing
REFRESH-INTERVAL;VALUE=DURATION:PT1H
X-Robots-Tag:noindex
X-PUBLISHED-TTL:PT1H
BEGIN:VTIMEZONE
TZID:Europe/Paris
BEGIN:DAYLIGHT
TZOFFSETFROM:+0100
TZOFFSETTO:+0200
TZNAME:CEST
DTSTART:20210328T010000
END:DAYLIGHT
BEGIN:STANDARD
TZOFFSETFROM:+0200
TZOFFSETTO:+0100
TZNAME:CET
DTSTART:20211031T010000
END:STANDARD
END:VTIMEZONE
BEGIN:VEVENT
DTSTART;TZID=Europe/Paris:20211102T130000
DTEND;TZID=Europe/Paris:20211102T143000
DTSTAMP:20260425T051610
CREATED:20211101T210740Z
LAST-MODIFIED:20211101T210740Z
UID:28889-1635858000-1635863400@lepoing.net
SUMMARY:Partout : de 13h à 14h30 un webinaire de la CGT aura lieu sur le thème “Prévenir les violences sexistes et sexuelles et protéger les victimes : mettons les employeurs face à leurs responsabilités”
DESCRIPTION:Retrouvez tout le programme et lien pour vous y inscrire ici.
URL:https://lepoing.net/evenement/partout-de-13h-a-14h30-un-webinaire-de-la-cgt-aura-lieu-sur-le-theme-prevenir-les-violences-sexistes-et-sexuelles-et-proteger-les-victimes-mettons-les-employeurs-face-a-leurs-responsabili/
END:VEVENT
BEGIN:VEVENT
DTSTART;TZID=Europe/Paris:20211102T183000
DTEND;TZID=Europe/Paris:20211102T210000
DTSTAMP:20260425T051610
CREATED:20211101T210916Z
LAST-MODIFIED:20211101T210916Z
UID:28893-1635877800-1635886800@lepoing.net
SUMMARY:Montpellier : terrasse sauvage pour les exclus du pass sanitaire de 18h30 à 21h place Salengro (vers l’aire de jeux)
DESCRIPTION:
URL:https://lepoing.net/evenement/montpellier-terrasse-sauvage-pour-les-exclus-du-pass-sanitaire-de-18h30-a-21h-place-salengro-vers-laire-de-jeux-3/
END:VEVENT
BEGIN:VEVENT
DTSTART;TZID=Europe/Paris:20211102T190000
DTEND;TZID=Europe/Paris:20211102T220000
DTSTAMP:20260425T051610
CREATED:20211101T210832Z
LAST-MODIFIED:20211101T210832Z
UID:28891-1635879600-1635890400@lepoing.net
SUMMARY:Montpellier : rencontre avec les membres de la Coopérative intégrale du bassin de Thau\, au Centre Ascaso-Durutti\, au 6 rue André René\, précédé d’un apéro dès 19h.
DESCRIPTION:
URL:https://lepoing.net/evenement/montpellier-rencontre-avec-les-membres-de-la-cooperative-integrale-du-bassin-de-thau-au-centre-ascaso-durutti-au-6-rue-andre-rene-precede-dun-apero-des-19h/
END:VEVENT
BEGIN:VEVENT
DTSTART;TZID=Europe/Paris:20211103T100000
DTEND;TZID=Europe/Paris:20211103T140000
DTSTAMP:20260425T051610
CREATED:20211102T005404Z
LAST-MODIFIED:20211102T005404Z
UID:28895-1635933600-1635948000@lepoing.net
SUMMARY:Le Grau du Roi : action de dépollution sur l’étang du Médard organisée par le groupe Greenpeace Montpellier. Rendez-vous au parking des Arènes au Grau-du-Roi à 10h\, covoiturage possible au départ de Montpellier\, pique nique zéro déchet s’il fait beau ! Plus d’infos au 06 69 98 63 33
DESCRIPTION:
URL:https://lepoing.net/evenement/le-grau-du-roi-action-de-depollution-sur-letang-du-medard-organisee-par-le-groupe-greenpeace-montpellier-rendez-vous-au-parking-des-arenes-au-grau-du-roi-a-10h-covoiturage-possible-au-dep/
END:VEVENT
BEGIN:VEVENT
DTSTART;TZID=Europe/Paris:20211103T180000
DTEND;TZID=Europe/Paris:20211103T220000
DTSTAMP:20260425T051610
CREATED:20211102T194047Z
LAST-MODIFIED:20211102T194047Z
UID:28927-1635962400-1635976800@lepoing.net
SUMMARY:Castres : rassemblement à 18h contre le pass sanitaire et l’obligation vaccinale\, sur la Place Soult.
DESCRIPTION:
URL:https://lepoing.net/evenement/castres-rassemblement-a-18h-contre-le-pass-sanitaire-et-lobligation-vaccinale-sur-la-place-soult/
END:VEVENT
BEGIN:VEVENT
DTSTART;TZID=Europe/Paris:20211103T183000
DTEND;TZID=Europe/Paris:20211103T203000
DTSTAMP:20260425T051610
CREATED:20211102T005449Z
LAST-MODIFIED:20211102T005449Z
UID:28897-1635964200-1635971400@lepoing.net
SUMMARY:Montpellier : réunion de présentation et accueil des nouveaux du groupe Greenpeace Montpellier à la Carmagnole\, 10 rue Haguenot\, à 18h30
DESCRIPTION:
URL:https://lepoing.net/evenement/montpellier-reunion-de-presentation-et-accueil-des-nouveaux-du-groupe-greenpeace-montpellier-a-la-carmagnole-10-rue-haguenot-a-18h30/
END:VEVENT
BEGIN:VEVENT
DTSTART;TZID=Europe/Paris:20211103T190000
DTEND;TZID=Europe/Paris:20211103T230000
DTSTAMP:20260425T051610
CREATED:20211102T194137Z
LAST-MODIFIED:20211102T194137Z
UID:28929-1635966000-1635980400@lepoing.net
SUMMARY:Le Boulou : rendez-vous des gilets jaunes à partir de 19h au rond point distriport-hôtel de Neoulous\, juste en face de la caserne de pompiers.
DESCRIPTION:
URL:https://lepoing.net/evenement/le-boulou-rendez-vous-des-gilets-jaunes-a-partir-de-19h-au-rond-point-distriport-hotel-de-neoulous-juste-en-face-de-la-caserne-de-pompiers/
END:VEVENT
BEGIN:VEVENT
DTSTART;TZID=Europe/Paris:20211104T170000
DTEND;TZID=Europe/Paris:20211104T210000
DTSTAMP:20260425T051610
CREATED:20211102T195104Z
LAST-MODIFIED:20211102T195104Z
UID:28944-1636045200-1636059600@lepoing.net
SUMMARY:Viviez\, près de Decazeville : manif en soutien aux 350 salariés de la fonderie SAM dont les emplois sont menacés. Rendez-vous à 17h15 devant l’usine.
DESCRIPTION:
URL:https://lepoing.net/evenement/viviez-pres-de-decazeville-manif-en-soutien-aux-350-salaries-de-la-fonderie-sam-dont-les-emplois-sont-menaces-rendez-vous-a-17h15-devant-lusine/
END:VEVENT
BEGIN:VEVENT
DTSTART;TZID=Europe/Paris:20211104T180000
DTEND;TZID=Europe/Paris:20211104T233000
DTSTAMP:20260425T051610
CREATED:20211102T190839Z
LAST-MODIFIED:20211102T190839Z
UID:28908-1636048800-1636068600@lepoing.net
SUMMARY:Montpellier : vernissage de l’expo photo “Je mange c mor ki me touche mé chein” de Laurent Vilarem et Lorrie Le Gac. Depuis septembre 2020 Lorrie et Laurent arpentent la cité Gély pour y saisir des tranches de vie des gitans qui y habitent. La soirée sera aussi l’occasion de présenter leur livre sur le sujet. Concert flamenco en acoustique durant la soirée. Ce sera à la Jetée\, au 80 rue du faubourg Figuerolles. L’expo photo y restera jusqu’au 4 décembre.
DESCRIPTION:
URL:https://lepoing.net/evenement/montpellier-vernissage-de-lexpo-photo-je-mange-c-mor-ki-me-touche-me-chein-de-laurent-vilarem-et-lorrie-le-gac-depuis-septembre-2020-lorrie-et-laurent-arpentent-la-cite-g/
END:VEVENT
BEGIN:VEVENT
DTSTART;TZID=Europe/Paris:20211104T183000
DTEND;TZID=Europe/Paris:20211104T210000
DTSTAMP:20260425T051610
CREATED:20211102T190934Z
LAST-MODIFIED:20211102T190934Z
UID:28910-1636050600-1636059600@lepoing.net
SUMMARY:Montpellier : terrasse sauvage pour les exclus du pass sanitaire de 18h30 à 21h place des Beaux-Arts (près de la fontaine)
DESCRIPTION:
URL:https://lepoing.net/evenement/montpellier-terrasse-sauvage-pour-les-exclus-du-pass-sanitaire-de-18h30-a-21h-place-des-beaux-arts-pres-de-la-fontaine-2/
END:VEVENT
BEGIN:VEVENT
DTSTART;TZID=Europe/Paris:20211104T190000
DTEND;TZID=Europe/Paris:20211104T223000
DTSTAMP:20260425T051610
CREATED:20211102T195012Z
LAST-MODIFIED:20211102T195012Z
UID:28942-1636052400-1636065000@lepoing.net
SUMMARY:Nîmes : apéro en solidarité avec les exclus du pass sanitaire\, à partir de 19h devant le Carrée d’Art
DESCRIPTION:
URL:https://lepoing.net/evenement/nimes-apero-en-solidarite-avec-les-exclus-du-pass-sanitaire-a-partir-de-19h-devant-le-carree-dart-2/
END:VEVENT
BEGIN:VEVENT
DTSTART;TZID=Europe/Paris:20211105T193000
DTEND;TZID=Europe/Paris:20211105T233000
DTSTAMP:20260425T051610
CREATED:20211102T191820Z
LAST-MODIFIED:20211102T191820Z
UID:28912-1636140600-1636155000@lepoing.net
SUMMARY:Montpellier : rencontre autour du thème “l’auto-défense féministe : une pensée politique” organisée par le groupe Union Communiste Libertaire Montpellier. La soirée\, en non-mixité choisie (femmes et minorités de genre ayant ou ayant eu un vécu social de femme) sera animée par une formatrice en auto-défense féministe et syndicaliste. Ce sera à la librairie La Mauvaise Réputation au 20 rue Terral\, avec une jauge établie à 30 personnes.
DESCRIPTION:
URL:https://lepoing.net/evenement/montpellier-rencontre-autour-du-theme-lauto-defense-feministe-une-pensee-politique-organisee-par-le-groupe-union-communiste-libertaire-montpellier-la-soiree-en-non-mix/
END:VEVENT
BEGIN:VEVENT
DTSTART;TZID=Europe/Paris:20211105T200000
DTEND;TZID=Europe/Paris:20211105T233000
DTSTAMP:20260425T051610
CREATED:20211102T194451Z
LAST-MODIFIED:20211102T194451Z
UID:28933-1636142400-1636155000@lepoing.net
SUMMARY:Albi : dans le cadre de la seconde édition du festival du film libertaire\, projection du film “Sorry to bother you”\, au resto-bar Le Charli – 25 avenue François Verdier à 20h
DESCRIPTION:
URL:https://lepoing.net/evenement/albi-dans-le-cadre-de-la-seconde-edition-du-festival-du-film-libertaire-projection-du-film-sorry-to-bother-you-au-resto-bar-le-charli-25-avenue-francois-verdier-a-20h/
END:VEVENT
BEGIN:VEVENT
DTSTART;TZID=Europe/Paris:20211106T100000
DTEND;TZID=Europe/Paris:20211106T150000
DTSTAMP:20260425T051610
CREATED:20211102T195152Z
LAST-MODIFIED:20211102T195152Z
UID:28946-1636192800-1636210800@lepoing.net
SUMMARY:Nîmes : les gilets jaunes seront dès 10h au rond-point du kilomètre delta\, vers l’entrée de l’autoroute
DESCRIPTION:
URL:https://lepoing.net/evenement/nimes-les-gilets-jaunes-seront-des-10h-au-rond-point-du-kilometre-delta-vers-lentree-de-lautoroute/
END:VEVENT
BEGIN:VEVENT
DTSTART;TZID=Europe/Paris:20211106T103000
DTEND;TZID=Europe/Paris:20211106T163000
DTSTAMP:20260425T051610
CREATED:20211102T194537Z
LAST-MODIFIED:20211102T194537Z
UID:28936-1636194600-1636216200@lepoing.net
SUMMARY:Prades : Forum populaire sur la place du Marché\, contre la destruction des terres agricoles par les plans d’urbanisme et les promoteurs immobiliers. 10h30 : prises de paroles et échanges avec des collectifs et organisations locales 12h30 : marches des casseroles vers Codalet. Musiques et repas partagé sur site
DESCRIPTION:
URL:https://lepoing.net/evenement/prades-forum-populaire-sur-la-place-du-marche-contre-la-destruction-des-terres-agricoles-par-les-plans-durbanisme-et-les-promoteurs-immobiliers-10h30-prises-de-paroles-et-echanges-avec/
END:VEVENT
BEGIN:VEVENT
DTSTART;TZID=Europe/Paris:20211106T110000
DTEND;TZID=Europe/Paris:20211106T140000
DTSTAMP:20260425T051610
CREATED:20211102T193700Z
LAST-MODIFIED:20211102T193700Z
UID:28919-1636196400-1636207200@lepoing.net
SUMMARY:Montpellier : rassemblement pour la suspension immédiate de travaux du LIEN\, à 11h devant la préfecture.
DESCRIPTION:
URL:https://lepoing.net/evenement/montpellier-rassemblement-pour-la-suspension-immediate-de-travaux-du-lien-a-11h-devant-la-prefecture/
END:VEVENT
BEGIN:VEVENT
DTSTART;TZID=Europe/Paris:20211106T120000
DTEND;TZID=Europe/Paris:20211106T140000
DTSTAMP:20260425T051610
CREATED:20211102T192024Z
LAST-MODIFIED:20211102T192024Z
UID:28915-1636200000-1636207200@lepoing.net
SUMMARY:Montpellier : terrasse sauvage pour les exclus du pass sanitaire de 12h à 14h au kiosque de l’esplanade Charles de Gaulle
DESCRIPTION:
URL:https://lepoing.net/evenement/montpellier-terrasse-sauvage-pour-les-exclus-du-pass-sanitaire-de-12h-a-14h-au-kiosque-de-lesplanade-charles-de-gaulle-2/
END:VEVENT
BEGIN:VEVENT
DTSTART;TZID=Europe/Paris:20211106T130000
DTEND;TZID=Europe/Paris:20211106T150000
DTSTAMP:20260425T051610
CREATED:20211102T193610Z
LAST-MODIFIED:20211102T193610Z
UID:28917-1636203600-1636210800@lepoing.net
SUMMARY:Montpellier : entre 13h30 et 15h\, distribution de produits de première nécessité (alimentaire et hygiène) pour les personnes précaires. C’est à la librairie “La Mauvaise Réputation”\, 20 rue Terral.
DESCRIPTION:
URL:https://lepoing.net/evenement/montpellier-entre-13h30-et-15h-distribution-de-produits-de-premiere-necessite-alimentaire-et-hygiene-pour-les-personnes-precaires-cest-a-la-librairie-la-mauvaise-reputation-2/
END:VEVENT
BEGIN:VEVENT
DTSTART;TZID=Europe/Paris:20211106T140000
DTEND;TZID=Europe/Paris:20211106T170000
DTSTAMP:20260425T051610
CREATED:20211102T195228Z
LAST-MODIFIED:20211102T195228Z
UID:28948-1636207200-1636218000@lepoing.net
SUMMARY:Nîmes : marche pour le climat à 14h au départ de l’esplanade Charles de Gaulle
DESCRIPTION:
URL:https://lepoing.net/evenement/nimes-marche-pour-le-climat-a-14h-au-depart-de-lesplanade-charles-de-gaulle/
END:VEVENT
BEGIN:VEVENT
DTSTART;TZID=Europe/Paris:20211106T140000
DTEND;TZID=Europe/Paris:20211106T180000
DTSTAMP:20260425T051610
CREATED:20211102T193754Z
LAST-MODIFIED:20211102T193754Z
UID:28921-1636207200-1636221600@lepoing.net
SUMMARY:Montpellier : manifestation contre le pass sanitaire et l'obligation vaccinale à 14h place de la Comédie
DESCRIPTION:
URL:https://lepoing.net/evenement/montpellier-manifestation-contre-le-pass-sanitaire-et-lobligation-vaccinale-a-14h-place-de-la-comedie/
END:VEVENT
BEGIN:VEVENT
DTSTART;TZID=Europe/Paris:20211106T140000
DTEND;TZID=Europe/Paris:20211106T180000
DTSTAMP:20260425T051610
CREATED:20211102T194613Z
LAST-MODIFIED:20211102T194613Z
UID:28938-1636207200-1636221600@lepoing.net
SUMMARY:Perpignan : flashmob sur le thème de l’urgence climatique et des problèmes de sécheresse. Rendez-vous à l’ancien passage à gué avenue du Palais des Expositions\, à 14h.
DESCRIPTION:
URL:https://lepoing.net/evenement/perpignan-flashmob-sur-le-theme-de-lurgence-climatique-et-des-problemes-de-secheresse-rendez-vous-a-lancien-passage-a-gue-avenue-du-palais-des-expositions-a-14h/
END:VEVENT
BEGIN:VEVENT
DTSTART;TZID=Europe/Paris:20211106T140000
DTEND;TZID=Europe/Paris:20211106T180000
DTSTAMP:20260425T051610
CREATED:20211102T194656Z
LAST-MODIFIED:20211102T194656Z
UID:28940-1636207200-1636221600@lepoing.net
SUMMARY:Limoux : pour les 150 ans de la Commune\, le PCRF de l’Aude organise une journée culturelle à la salle L. Costes à partir de 14h.
DESCRIPTION:
URL:https://lepoing.net/evenement/limoux-pour-les-150-ans-de-la-commune-le-pcrf-de-laude-organise-une-journee-culturelle-a-la-salle-l-costes-a-partir-de-14h/
END:VEVENT
BEGIN:VEVENT
DTSTART;TZID=Europe/Paris:20211106T160000
DTEND;TZID=Europe/Paris:20211106T190000
DTSTAMP:20260425T051610
CREATED:20211102T195507Z
LAST-MODIFIED:20211102T195507Z
UID:28952-1636214400-1636225200@lepoing.net
SUMMARY:Nîmes : à 16h rendez-vous devant la préfecture pour la manif contre le pass sanitaire et l'obligation vaccinale
DESCRIPTION:
URL:https://lepoing.net/evenement/nimes-a-16h-rendez-vous-devant-la-prefecture-pour-la-manif-contre-le-pass-sanitaire-et-lobligation-vaccinale/
END:VEVENT
BEGIN:VEVENT
DTSTART;TZID=Europe/Paris:20211106T160000
DTEND;TZID=Europe/Paris:20211106T200000
DTSTAMP:20260425T051610
CREATED:20211102T193841Z
LAST-MODIFIED:20211102T193841Z
UID:28923-1636214400-1636228800@lepoing.net
SUMMARY:Montpellier : les gilets jaunes du rond-point Près d'Arènes se retrouveront à 16h sur le rond-point\, comme chaque semaine
DESCRIPTION:
URL:https://lepoing.net/evenement/montpellier-les-gilets-jaunes-du-rond-point-pres-darenes-se-retrouveront-a-16h-sur-le-rond-point-comme-chaque-semaine/
END:VEVENT
BEGIN:VEVENT
DTSTART;TZID=Europe/Paris:20211106T203000
DTEND;TZID=Europe/Paris:20211106T233000
DTSTAMP:20260425T051610
CREATED:20211102T193930Z
LAST-MODIFIED:20211102T193930Z
UID:28925-1636230600-1636241400@lepoing.net
SUMMARY:Prémian : dans le cadre du festival "D'une vallée à l'autre"\, organisé cette année sur le thème "Travailler\, pour quoi faire ?"\, le film documentaire "La vie d'une petite culotte et de celles qui la fabriquent" de Stéfanne Prijot sera projeté au local de l'asso Au fil des Arts\, sur la place Maurice Amans\, à 20h30. En présence de Patrice Kappel du groupe Amnesty International Castres-Mazamet
DESCRIPTION:
URL:https://lepoing.net/evenement/premian-dans-le-cadre-du-festival-dune-vallee-a-lautre-organise-cette-annee-sur-le-theme-travailler-pour-quoi-faire-le-film-documentaire-la-vie-dune-petite-culotte-et-de-celles/
END:VEVENT
BEGIN:VEVENT
DTSTART;TZID=Europe/Paris:20211108T200000
DTEND;TZID=Europe/Paris:20211108T233000
DTSTAMP:20260425T051610
CREATED:20211102T205112Z
LAST-MODIFIED:20211102T205112Z
UID:28954-1636401600-1636414200@lepoing.net
SUMMARY:Montpellier :projection du film "La Bataille de la Plaine" au cinéma l'Utopia à 20h suivi d'un débat animé par des journalistes des médias Le Poing\, Radio GINE\, La Mule du Pape et Primitivi
DESCRIPTION:
URL:https://lepoing.net/evenement/montpellier-projection-du-film-la-bataille-de-la-plaine-au-cinema-lutopia-a-20h-suivi-dun-debat-anime-par-des-journalistes-des-medias-le-poing-radio-gine-la-mule-du-pape-et-primitivi/
END:VEVENT
BEGIN:VEVENT
DTSTART;TZID=Europe/Paris:20211109T180000
DTEND;TZID=Europe/Paris:20211109T210000
DTSTAMP:20260425T051610
CREATED:20211108T010403Z
LAST-MODIFIED:20211108T010403Z
UID:29079-1636480800-1636491600@lepoing.net
SUMMARY:Réunion d'organisation pour un groupe de théâtre de rue articulé à l'AG de Montpellier contre les violences d'état et pour les libertés\, à 18h au local associatif Le Barricade\, 14 rue Aristide Ollivier
DESCRIPTION:
URL:https://lepoing.net/evenement/reunion-dorganisation-pour-un-groupe-de-theatre-de-rue-articule-a-lag-de-montpellier-contre-les-violences-detat-et-pour-les-libertes-a-18h-au-local-associatif-le-barricade-14-rue-aristide-olli/
END:VEVENT
BEGIN:VEVENT
DTSTART;TZID=Europe/Paris:20211110T163000
DTEND;TZID=Europe/Paris:20211110T183000
DTSTAMP:20260425T051610
CREATED:20211102T210115Z
LAST-MODIFIED:20211102T210115Z
UID:28958-1636561800-1636569000@lepoing.net
SUMMARY:Montpellier : possibilité de venir chercher les produits de nettoyage de l'usine autogérée grecque Viome\, précommandés au 06 78 25 06 80 ou à l'adresse mail solidariteaveclepeuplegrec@gmail.com entre 16h30 et 18h30 au 2 rue Lacombe. 
DESCRIPTION:Lire notre article sur le sujet ici.
URL:https://lepoing.net/evenement/montpellier-possibilite-de-venir-chercher-les-produits-de-nettoyage-de-lusine-autogeree-grecque-viome-precommandes-au-06-78-25-06-80-ou-a-ladresse-mail-solidariteaveclepeuplegrecgmail-com-entr/
END:VEVENT
BEGIN:VEVENT
DTSTART;TZID=Europe/Paris:20211110T200000
DTEND;TZID=Europe/Paris:20211110T230000
DTSTAMP:20260425T051610
CREATED:20211108T005132Z
LAST-MODIFIED:20211108T005132Z
UID:29067-1636574400-1636585200@lepoing.net
SUMMARY:Projection du film "Bienvenue à Gattaca" au local "La Grève"\, au 19bis boulevard Victor Hugo à Frontignan\, à 20h
DESCRIPTION:
URL:https://lepoing.net/evenement/projection-du-film-bienvenue-a-gattaca-au-local-la-greve-au-19bis-boulevard-victor-hugo-a-frontignan-a-20h/
END:VEVENT
BEGIN:VEVENT
DTSTART;TZID=Europe/Paris:20211112T180000
DTEND;TZID=Europe/Paris:20211112T210000
DTSTAMP:20260425T051610
CREATED:20211108T005313Z
LAST-MODIFIED:20211108T005313Z
UID:29069-1636740000-1636750800@lepoing.net
SUMMARY:Présentation de la Coopérative Intégrale du Bassin de Thau au local "La Grève"\, au 19bis boulevard Victor Hugo à Frontignan\, à 18h
DESCRIPTION:
URL:https://lepoing.net/evenement/presentation-de-la-cooperative-integrale-du-bassin-de-thau-au-local-la-greve-au-19bis-boulevard-victor-hugo-a-frontignan-a-18h/
END:VEVENT
END:VCALENDAR