BEGIN:VCALENDAR
VERSION:2.0
PRODID:-//Le Poing - ECPv6.8.3//NONSGML v1.0//EN
CALSCALE:GREGORIAN
METHOD:PUBLISH
X-ORIGINAL-URL:https://lepoing.net
X-WR-CALDESC:Évènements pour Le Poing
REFRESH-INTERVAL;VALUE=DURATION:PT1H
X-Robots-Tag:noindex
X-PUBLISHED-TTL:PT1H
BEGIN:VTIMEZONE
TZID:Europe/Paris
BEGIN:DAYLIGHT
TZOFFSETFROM:+0100
TZOFFSETTO:+0200
TZNAME:CEST
DTSTART:20220327T010000
END:DAYLIGHT
BEGIN:STANDARD
TZOFFSETFROM:+0200
TZOFFSETTO:+0100
TZNAME:CET
DTSTART:20221030T010000
END:STANDARD
END:VTIMEZONE
BEGIN:VEVENT
DTSTART;TZID=Europe/Paris:20220401T190000
DTEND;TZID=Europe/Paris:20220401T220000
DTSTAMP:20260425T124444
CREATED:20220314T181348Z
LAST-MODIFIED:20220331T162112Z
UID:30314-1648839600-1648850400@lepoing.net
SUMMARY:Féminisme et extrême droite : soirée en non mixité ANNULE REPORTE à l'automne
DESCRIPTION:Une soirée en non mixité le vendredi 1er avril à la Mauvaise Réputation\, organisée par la commission féministe de l’Union Communiste Libertaire sur “féminisme et extrême-droite”. Rdv à 19h. (jauge limitée à 30 personnes)  Débat ANNULE et reporté à l’automne
URL:https://lepoing.net/evenement/feminisme-et-extreme-droite-soiree-en-non-mixite/
LOCATION:Librairie La Mauvaise Réputation\, 20 rue Terral\, Montpellier\, France
END:VEVENT
BEGIN:VEVENT
DTSTART;TZID=Europe/Paris:20220407T200000
DTEND;TZID=Europe/Paris:20220407T220000
DTSTAMP:20260425T124444
CREATED:20220403T163339Z
LAST-MODIFIED:20220403T163339Z
UID:30588-1649361600-1649368800@lepoing.net
SUMMARY:L'étrange capitulation de la gauche
DESCRIPTION:
URL:https://lepoing.net/evenement/letrange-capitulation-de-la-gauche/
LOCATION:Barricade\, 5 rue Bonnie\, Montpellier\, France
END:VEVENT
BEGIN:VEVENT
DTSTART;TZID=Europe/Paris:20220409T140000
DTEND;TZID=Europe/Paris:20220409T170000
DTSTAMP:20260425T124444
CREATED:20220407T235130Z
LAST-MODIFIED:20220407T235130Z
UID:30614-1649512800-1649523600@lepoing.net
SUMMARY:L'anti loto repression
DESCRIPTION:
URL:https://lepoing.net/evenement/lanti-loto-repression/
LOCATION:Barricade\, 5 rue Bonnie\, Montpellier\, France
END:VEVENT
BEGIN:VEVENT
DTSTART;TZID=Europe/Paris:20220420T193000
DTEND;TZID=Europe/Paris:20220420T223000
DTSTAMP:20260425T124444
CREATED:20220411T165611Z
LAST-MODIFIED:20220411T165611Z
UID:30637-1650483000-1650493800@lepoing.net
SUMMARY:Ciné-Débat " Lea Tsemel avocate" journée internationale de solidarité avec les prisonniers politiques palestiniens
DESCRIPTION:
URL:https://lepoing.net/evenement/cine-debat-lea-tsemel-avocate-journee-internationale-de-solidarite-avec-les-prisonniers-politiques-palestiniens/
LOCATION:Cinéma Utopia\, 5 Avenue du Dr Pezet\, Montpellier\, 34090\, France
END:VEVENT
BEGIN:VEVENT
DTSTART;TZID=Europe/Paris:20220422T193000
DTEND;TZID=Europe/Paris:20220422T233000
DTSTAMP:20260425T124444
CREATED:20220420T090319Z
LAST-MODIFIED:20220420T090319Z
UID:30709-1650655800-1650670200@lepoing.net
SUMMARY:Dans le cadre du ciné club du Barricade/ Film documentaire " Le Président" sur G. Frêche
DESCRIPTION:
URL:https://lepoing.net/evenement/dans-le-cadre-du-cine-club-du-barricade-film-documentaire-le-president-sur-g-freche/
LOCATION:Le Barricade\, 5 rue Bonnie\, Montpellier
END:VEVENT
BEGIN:VEVENT
DTSTART;TZID=Europe/Paris:20220423T180000
DTEND;TZID=Europe/Paris:20220423T210000
DTSTAMP:20260425T124444
CREATED:20220411T170456Z
LAST-MODIFIED:20220411T170456Z
UID:30644-1650736800-1650747600@lepoing.net
SUMMARY:Présentation du livre de Julius Amédée Laou : « La Métropole : Le pays des Grands et Beaux Bwanas ou Comment combattre le communautarisme et le ségrégationnisme des Blancs en France."
DESCRIPTION:
URL:https://lepoing.net/evenement/presentation-du-livre-de-julius-amedee-laou-la-metropole-le-pays-des-grands-et-beaux-bwanas-ou-comment-combattre-le-communautarisme-et-le-segregationnisme-des-blancs-en-france/
LOCATION:Librairie La Mauvaise Réputation\, 20 rue Terral\, Montpellier\, France
END:VEVENT
END:VCALENDAR