BEGIN:VCALENDAR
VERSION:2.0
PRODID:-//Le Poing - ECPv6.8.3//NONSGML v1.0//EN
CALSCALE:GREGORIAN
METHOD:PUBLISH
X-WR-CALNAME:Le Poing
X-ORIGINAL-URL:https://lepoing.net
X-WR-CALDESC:Évènements pour Le Poing
REFRESH-INTERVAL;VALUE=DURATION:PT1H
X-Robots-Tag:noindex
X-PUBLISHED-TTL:PT1H
BEGIN:VTIMEZONE
TZID:Europe/Paris
BEGIN:DAYLIGHT
TZOFFSETFROM:+0100
TZOFFSETTO:+0200
TZNAME:CEST
DTSTART:20220327T010000
END:DAYLIGHT
BEGIN:STANDARD
TZOFFSETFROM:+0200
TZOFFSETTO:+0100
TZNAME:CET
DTSTART:20221030T010000
END:STANDARD
END:VTIMEZONE
BEGIN:VEVENT
DTSTART;TZID=Europe/Paris:20220701T193000
DTEND;TZID=Europe/Paris:20220701T223000
DTSTAMP:20260425T131607
CREATED:20220608T103941Z
LAST-MODIFIED:20220617T134927Z
UID:31075-1656703800-1656714600@lepoing.net
SUMMARY:Café Philo: Antisémitisme et Islamophobie dans le capitalisme de crise
DESCRIPTION:Les intervenants proposeront une présentation historique et sociale de ces deux racismes structurels que sont l’antisémitisme et l’islamophobie. Dans le capitalisme de crise\, le culturalisme et l’identitarisme sont exacerbés\, ainsi que la recherche de boucs émissaires. Les nationalismes se renforcent\, donnant lieu à des racismes différenciés\, mais complémentaires.
URL:https://lepoing.net/evenement/cafe-philo-antisemitisme-et-islamophobie-dans-le-capitalisme-de-crise/
LOCATION:Le Barricade\, 5 rue Bonnie\, Montpellier\, Occitanie\, 34000\, France
END:VEVENT
BEGIN:VEVENT
DTSTART;TZID=Europe/Paris:20220702T100000
DTEND;TZID=Europe/Paris:20220702T200000
DTSTAMP:20260425T131607
CREATED:20220529T112828Z
LAST-MODIFIED:20220618T143526Z
UID:30970-1656756000-1656792000@lepoing.net
SUMMARY:Armes policières et mutilantes : Analyses et Combats. Colloque
DESCRIPTION:Intervenant.e.s\n\n\n\n\nArié ALIMI\, avocat\, membre de la LDH. \nChloé CHALOT\, membre du Syndicat des avocats de France\, avocate au barreau de Rouen. \nPierre DOUILLARD-LEFÈVRE (présence à confirmer). \nSamia et Issam EL KHALFAOUI (présence à confirmer) \nIanB\, membre de Désarmons-les !\nhttps://desarmons.net \nEt du Groupe d’Enquête Indépendant GENI\nhttps://www.geni.ngo \nMélanie LOUIS\, membre du groupe de travail de la CIMADE sur les violences policières. \nRED\, street médic\, membre de l’Observatoire des street médics et réalisatrice du court sur les troubles post-traumatismes Blessures Invisibles. \nMaxime REYNIÉ\, journaliste à Politis et auteur du site Maintien de l’ordre https://maintiendelordre.fr/\n(présence à confirmer) \nPaul ROCHER\, économiste\, politologue\, auteur de Gazer\, mutiler\, soumettre\, La Fabrique\, 2020.\nhttps://lafabrique.fr/gazer-mutiler-soumettre/ \nFrancesco SEGREBONDI\, membre d’Index et de Forensic architecture\nhttps://www.index.ngo/\nhttps://www.facebook.com/index.ngo/ \nSéraphine\, Laurent THÉRON\, Christian TIDJANI\, membres de l’Assemblée des blessé.e.s.\nhttps://fr-fr.facebook.com/assembleedesblesses/ \nLaurent THINES\, neurochirurgien \nThierry TINTONI-MERKEL\, Union syndicale Solidaires \n 
URL:https://lepoing.net/evenement/armes-policieres-et-mutilantes-analyses-et-combats-colloque/
LOCATION:La Carmagnole\, 10 rue Haguenot\, Montpellier\, France
ATTACH;FMTTYPE=image/jpeg:https://lepoing.net/wp-content/uploads/2022/05/armes-mutilantes-bandeau-re_seaux.jpg
END:VEVENT
BEGIN:VEVENT
DTSTART;TZID=Europe/Paris:20220702T180000
DTEND;TZID=Europe/Paris:20220702T210000
DTSTAMP:20260425T131607
CREATED:20220620T111746Z
LAST-MODIFIED:20220620T111746Z
UID:31145-1656784800-1656795600@lepoing.net
SUMMARY:Soirée de clôture Li brairie La Mauvaise réputation 2/07/22 à 18H
DESCRIPTION:Soirée de clôture à la librairie La Mauvaise Réputation : débat/apéro musique live \n« Lutter dans les déserts syndicaux » l’exemple du Syndicat des Travailleurs-es du Jeu Vidéo \nRendez-vous le samedi 2 juillet 18 h à la librairie\, 20 rue Terral\, Montpellier. \nLes entreprises du jeu vidéo emploient des salarié·e·s très précaires et sans culture de lutte. Pourtant depuis quelques temps\, des travailleuses et travailleurs résistent et s’organisent. Des membres du STJV viendront partager et échanger sur leur expérience. Au-delà des salarié·e·s de leur secteur\, un débat qui peut intéresser toutes celles et ceux qui n’ont pas renoncé à lutter au travail malgré la précarité et la férocité patronale.
URL:https://lepoing.net/evenement/soiree-de-cloture-li-brairie-la-mauvaise-reputation-2-07-22-a-18h/
LOCATION:La Mauvais réputation\, 20 rue Terral\, Montpellier\, France
ATTACH;FMTTYPE=application/pdf:https://lepoing.net/wp-content/uploads/2022/06/a_002.pdf
END:VEVENT
END:VCALENDAR